BEGIN:VCALENDAR
VERSION:2.0
PRODID:-//wp-events-plugin.com//7.2.3.1//EN
BEGIN:VEVENT
UID:24@borasjudo.se
DTSTART;TZID=Europe/Stockholm;VALUE=DATE:20251004
DTEND;TZID=Europe/Stockholm;VALUE=DATE:20251005
DTSTAMP:20250929T095103Z
URL:https://www.borasjudo.se/events/wemmenhogs-judo-open/
SUMMARY:Wemmenhögs Judo Open
DESCRIPTION:Wemmenhögs Judo Open\nSmoothcomp link
CATEGORIES:Tävling
LOCATION:Wemmenhög\, Skurup Sparbank Arena\, Skurup\, 274 34\, Sverige
X-APPLE-STRUCTURED-LOCATION;VALUE=URI;X-ADDRESS=Skurup Sparbank Arena\, Sku
 rup\, 274 34\, Sverige;X-APPLE-RADIUS=100;X-TITLE=Wemmenhög:geo:0,0
END:VEVENT
BEGIN:VTIMEZONE
TZID:Europe/Stockholm
X-LIC-LOCATION:Europe/Stockholm
BEGIN:DAYLIGHT
DTSTART:20250330T030000
TZOFFSETFROM:+0100
TZOFFSETTO:+0200
TZNAME:CEST
END:DAYLIGHT
END:VTIMEZONE
END:VCALENDAR