BEGIN:VCALENDAR
VERSION:2.0
PRODID:-//wp-events-plugin.com//7.2.3.1//EN
BEGIN:VEVENT
UID:160@borasjudo.se
DTSTART;TZID=Europe/Stockholm:20260103T000000
DTEND;TZID=Europe/Stockholm:20260104T000000
DTSTAMP:20260102T142451Z
URL:https://www.borasjudo.se/events/veteranlager-for-30-ar-hos-judo-club-s
 undsvall/
SUMMARY:Veteranläger för +30 år hos Judo Club Sundsvall
DESCRIPTION:https://svenskjudo.smoothcomp.com/sv/event/28139
CATEGORIES:Läger
END:VEVENT
BEGIN:VTIMEZONE
TZID:Europe/Stockholm
X-LIC-LOCATION:Europe/Stockholm
BEGIN:STANDARD
DTSTART:20251026T020000
TZOFFSETFROM:+0200
TZOFFSETTO:+0100
TZNAME:CET
END:STANDARD
END:VTIMEZONE
END:VCALENDAR