BEGIN:VCALENDAR
VERSION:2.0
PRODID:-//wp-events-plugin.com//7.2.3.1//EN
BEGIN:VEVENT
UID:81@borasjudo.se
DTSTART;TZID=Europe/Stockholm;VALUE=DATE:20250921
DTEND;TZID=Europe/Stockholm;VALUE=DATE:20250922
DTSTAMP:20250822T100336Z
URL:https://www.borasjudo.se/events/vastgotaserien-2025-vara-dm/
SUMMARY:Västgötaserien 2025 Vara + DM
DESCRIPTION:En nybörjartävling upp till orange bälte där man samlar po
 äng under hela årets tävlingar.\nFör klubbar i VJF. Tävlande från k
 lubbar från andra distrikt är välkomna i mån av plats.\nÄven Västerg
 ötlands Distrikt Mästerskap.\n\nInbjudan ligger i Smoothcomp
CATEGORIES:Tävling
END:VEVENT
BEGIN:VTIMEZONE
TZID:Europe/Stockholm
X-LIC-LOCATION:Europe/Stockholm
BEGIN:DAYLIGHT
DTSTART:20250330T030000
TZOFFSETFROM:+0100
TZOFFSETTO:+0200
TZNAME:CEST
END:DAYLIGHT
END:VTIMEZONE
END:VCALENDAR