BEGIN:VCALENDAR
VERSION:2.0
PRODID:-//wp-events-plugin.com//7.2.3.1//EN
BEGIN:VEVENT
UID:118@borasjudo.se
DTSTART;TZID=Europe/Stockholm:20260123T000000
DTEND;TZID=Europe/Stockholm:20260125T000000
DTSTAMP:20260126T103702Z
URL:https://www.borasjudo.se/events/utvecklingslager-u15-senior-lindesberg
 /
SUMMARY:Utvecklingsläger U15-Senior - Lindesberg
DESCRIPTION:https://judo.se/event/utvecklingslager-u15-senior-lindesberg-20
 26/
CATEGORIES:Läger
END:VEVENT
BEGIN:VTIMEZONE
TZID:Europe/Stockholm
X-LIC-LOCATION:Europe/Stockholm
BEGIN:STANDARD
DTSTART:20251026T020000
TZOFFSETFROM:+0200
TZOFFSETTO:+0100
TZNAME:CET
END:STANDARD
END:VTIMEZONE
END:VCALENDAR