BEGIN:VCALENDAR
VERSION:2.0
PRODID:-//wp-events-plugin.com//7.2.3.1//EN
BEGIN:VEVENT
UID:93@borasjudo.se
DTSTART;TZID=Europe/Stockholm:20251027T000000
DTEND;TZID=Europe/Stockholm:20251028T000000
DTSTAMP:20250929T135503Z
URL:https://www.borasjudo.se/events/utvecklingslager-stockholm/
SUMMARY:Utvecklingsläger Stockholm
DESCRIPTION:27-28 oktober i Stockholm för sistaårs-U13\, U15 och U18.\n\n
 https://judo.se/event/utvecklingslager-stockholm-u18-u15-aven-sista-ars-u1
 3/
CATEGORIES:Läger
END:VEVENT
BEGIN:VTIMEZONE
TZID:Europe/Stockholm
X-LIC-LOCATION:Europe/Stockholm
BEGIN:STANDARD
DTSTART:20251026T020000
TZOFFSETFROM:+0200
TZOFFSETTO:+0100
TZNAME:CET
END:STANDARD
END:VTIMEZONE
END:VCALENDAR