BEGIN:VCALENDAR
VERSION:2.0
PRODID:-//wp-events-plugin.com//7.2.3.1//EN
BEGIN:VEVENT
UID:37@borasjudo.se
DTSTART;TZID=Europe/Stockholm;VALUE=DATE:20250125
DTEND;TZID=Europe/Stockholm;VALUE=DATE:20250127
DTSTAMP:20250618T125543Z
URL:https://www.borasjudo.se/events/utvecklingslager-lindesberg/
SUMMARY:Utvecklingsläger\, Lindesberg
DESCRIPTION:Utvecklingsläger Lindesberg\nSmoothcomp link
CATEGORIES:Läger
END:VEVENT
BEGIN:VTIMEZONE
TZID:Europe/Stockholm
X-LIC-LOCATION:Europe/Stockholm
BEGIN:STANDARD
DTSTART:20241027T020000
TZOFFSETFROM:+0200
TZOFFSETTO:+0100
TZNAME:CET
END:STANDARD
END:VTIMEZONE
END:VCALENDAR