BEGIN:VCALENDAR
VERSION:2.0
PRODID:-//wp-events-plugin.com//7.2.3.1//EN
BEGIN:VEVENT
UID:31@borasjudo.se
DTSTART;TZID=Europe/Stockholm:20250106T190000
DTEND;TZID=Europe/Stockholm:20250106T203000
DTSTAMP:20250618T124756Z
URL:https://www.borasjudo.se/events/us-start/
SUMMARY:US Start
DESCRIPTION:US gruppens första träning våren 2025
CATEGORIES:Träning
END:VEVENT
BEGIN:VTIMEZONE
TZID:Europe/Stockholm
X-LIC-LOCATION:Europe/Stockholm
BEGIN:STANDARD
DTSTART:20241027T020000
TZOFFSETFROM:+0200
TZOFFSETTO:+0100
TZNAME:CET
END:STANDARD
END:VTIMEZONE
END:VCALENDAR