BEGIN:VCALENDAR
VERSION:2.0
PRODID:-//wp-events-plugin.com//7.2.3.1//EN
BEGIN:VEVENT
UID:11@borasjudo.se
DTSTART;TZID=Europe/Stockholm:20250612T190000
DTEND;TZID=Europe/Stockholm:20250612T203000
DTSTAMP:20250617T151626Z
URL:https://www.borasjudo.se/events/us-slut/
SUMMARY:US Slut
DESCRIPTION:Sista träningen våren 2025 för ungdomar och seniorer våren 
 2025
CATEGORIES:Träning
END:VEVENT
BEGIN:VTIMEZONE
TZID:Europe/Stockholm
X-LIC-LOCATION:Europe/Stockholm
BEGIN:DAYLIGHT
DTSTART:20250330T030000
TZOFFSETFROM:+0100
TZOFFSETTO:+0200
TZNAME:CEST
END:DAYLIGHT
END:VTIMEZONE
END:VCALENDAR