BEGIN:VCALENDAR
VERSION:2.0
PRODID:-//wp-events-plugin.com//7.2.3.1//EN
BEGIN:VEVENT
UID:75@borasjudo.se
DTSTART;TZID=Europe/Stockholm:20251218T190000
DTEND;TZID=Europe/Stockholm:20251218T203000
DTSTAMP:20250805T083428Z
URL:https://www.borasjudo.se/events/us-slut-2/
SUMMARY:US slut
DESCRIPTION:Ungdomar och seniorer slut hösten 2025
CATEGORIES:Träning
END:VEVENT
BEGIN:VTIMEZONE
TZID:Europe/Stockholm
X-LIC-LOCATION:Europe/Stockholm
BEGIN:STANDARD
DTSTART:20251026T020000
TZOFFSETFROM:+0200
TZOFFSETTO:+0100
TZNAME:CET
END:STANDARD
END:VTIMEZONE
END:VCALENDAR