BEGIN:VCALENDAR
VERSION:2.0
PRODID:-//wp-events-plugin.com//7.2.3.1//EN
BEGIN:VEVENT
UID:32@borasjudo.se
DTSTART;TZID=Europe/Stockholm:20250108T183000
DTEND;TZID=Europe/Stockholm:20250108T200000
DTSTAMP:20250618T124950Z
URL:https://www.borasjudo.se/events/u13-u15-start/
SUMMARY:U13-U15 Start
DESCRIPTION:U13-U15 gruppens första träning våren 2025
CATEGORIES:Träning
END:VEVENT
BEGIN:VTIMEZONE
TZID:Europe/Stockholm
X-LIC-LOCATION:Europe/Stockholm
BEGIN:STANDARD
DTSTART:20241027T020000
TZOFFSETFROM:+0200
TZOFFSETTO:+0100
TZNAME:CET
END:STANDARD
END:VTIMEZONE
END:VCALENDAR