BEGIN:VCALENDAR
VERSION:2.0
PRODID:-//wp-events-plugin.com//7.2.3.1//EN
BEGIN:VEVENT
UID:6@borasjudo.se
DTSTART:20250611T163000Z
DTEND:20250611T180000Z
DTSTAMP:20250617T125128Z
URL:https://www.borasjudo.se/events/u13-u15-slut/
SUMMARY:U13-U15 Slut
DESCRIPTION:U13-U15 sista träning för våren 2025
CATEGORIES:Träning
END:VEVENT
END:VCALENDAR