BEGIN:VCALENDAR
VERSION:2.0
PRODID:-//wp-events-plugin.com//7.2.3.1//EN
BEGIN:VEVENT
UID:67@borasjudo.se
DTSTART;TZID=Europe/Stockholm;VALUE=DATE:20251115
DTEND;TZID=Europe/Stockholm;VALUE=DATE:20251117
DTSTAMP:20250618T190546Z
URL:https://www.borasjudo.se/events/trolltraffen-2/
SUMMARY:Trollträffen 2
DESCRIPTION:Smoothcomp information
ATTACH;FMTTYPE=image/jpeg:https://www.borasjudo.se/wp-content/uploads/2025
 /06/trolltraffen.png
CATEGORIES:Tävling
END:VEVENT
BEGIN:VTIMEZONE
TZID:Europe/Stockholm
X-LIC-LOCATION:Europe/Stockholm
BEGIN:STANDARD
DTSTART:20251026T020000
TZOFFSETFROM:+0200
TZOFFSETTO:+0100
TZNAME:CET
END:STANDARD
END:VTIMEZONE
END:VCALENDAR