BEGIN:VCALENDAR
VERSION:2.0
PRODID:-//wp-events-plugin.com//7.2.3.1//EN
BEGIN:VEVENT
UID:157@borasjudo.se
DTSTART;TZID=Europe/Stockholm:20260116T000000
DTEND;TZID=Europe/Stockholm:20260118T000000
DTSTAMP:20260102T092741Z
URL:https://www.borasjudo.se/events/tekniklager-med-landslaget-stockholm/
SUMMARY:Teknikläger med landslaget – Stockholm
DESCRIPTION:https://judo.se/event/utvecklingslager-stockholm-u15-u18-aldre/
CATEGORIES:Läger
END:VEVENT
BEGIN:VTIMEZONE
TZID:Europe/Stockholm
X-LIC-LOCATION:Europe/Stockholm
BEGIN:STANDARD
DTSTART:20251026T020000
TZOFFSETFROM:+0200
TZOFFSETTO:+0100
TZNAME:CET
END:STANDARD
END:VTIMEZONE
END:VCALENDAR