BEGIN:VCALENDAR
VERSION:2.0
PRODID:-//wp-events-plugin.com//7.2.3.1//EN
BEGIN:VEVENT
UID:102@borasjudo.se
DTSTART;TZID=Europe/Stockholm:20251115T110000
DTEND;TZID=Europe/Stockholm:20251115T160000
DTSTAMP:20251106T131110Z
URL:https://www.borasjudo.se/events/tekniklager-med-kenny-och-john/
SUMMARY:Teknikläger med Kenny och John
DESCRIPTION:https://www.borasjudo.se/2025/10/21/tekniklager-med-kenny-och-j
 ohn/
CATEGORIES:Läger
END:VEVENT
BEGIN:VTIMEZONE
TZID:Europe/Stockholm
X-LIC-LOCATION:Europe/Stockholm
BEGIN:STANDARD
DTSTART:20251026T020000
TZOFFSETFROM:+0200
TZOFFSETTO:+0100
TZNAME:CET
END:STANDARD
END:VTIMEZONE
END:VCALENDAR