BEGIN:VCALENDAR
VERSION:2.0
PRODID:-//wp-events-plugin.com//7.2.3.1//EN
BEGIN:VEVENT
UID:3@borasjudo.se
DTSTART;TZID=Europe/Stockholm:20250617T183000
DTEND;TZID=Europe/Stockholm:20250617T200000
DTSTAMP:20250618T120929Z
URL:https://www.borasjudo.se/events/sommartraning-start/
SUMMARY:Sommarträning start
DESCRIPTION:Sommarträning start.\nTisdagar och Torsdagar 18:30-20:00 hela 
 sommaren\nGemensam träning för samtliga medlemmar och besökande.\nInget
  bältes krav men ålder 14 år eller mer.
CATEGORIES:Träning
END:VEVENT
BEGIN:VTIMEZONE
TZID:Europe/Stockholm
X-LIC-LOCATION:Europe/Stockholm
BEGIN:DAYLIGHT
DTSTART:20250330T030000
TZOFFSETFROM:+0100
TZOFFSETTO:+0200
TZNAME:CEST
END:DAYLIGHT
END:VTIMEZONE
END:VCALENDAR