BEGIN:VCALENDAR
VERSION:2.0
PRODID:-//wp-events-plugin.com//7.2.3.1//EN
BEGIN:VEVENT
UID:13@borasjudo.se
DTSTART;TZID=Europe/Stockholm;VALUE=DATE:20250624
DTEND;TZID=Europe/Stockholm;VALUE=DATE:20250627
DTSTAMP:20250618T172457Z
URL:https://www.borasjudo.se/events/sommarlager-med-emil/
SUMMARY:BJK Sommarläger med Emil
DESCRIPTION:Sommarläger i Borås med Emil Henriksson\n\nSmoothcomp informa
 tion\n\n2025-Träningsläger-med-Emil-Henriksson\n\n&nbsp\;\n\n&nbsp\;\n\n
 &nbsp\;\n\n&nbsp\;\n\n&nbsp\;\n\n&nbsp\;\n\n&nbsp\;\n\n&nbsp\;
ATTACH;FMTTYPE=image/jpeg:https://www.borasjudo.se/wp-content/uploads/2023
 /05/emil.henriksson.jpg
CATEGORIES:Läger
END:VEVENT
BEGIN:VTIMEZONE
TZID:Europe/Stockholm
X-LIC-LOCATION:Europe/Stockholm
BEGIN:DAYLIGHT
DTSTART:20250330T030000
TZOFFSETFROM:+0100
TZOFFSETTO:+0200
TZNAME:CEST
END:DAYLIGHT
END:VTIMEZONE
END:VCALENDAR