BEGIN:VCALENDAR
VERSION:2.0
PRODID:-//wp-events-plugin.com//7.2.3.1//EN
BEGIN:VEVENT
UID:82@borasjudo.se
DTSTART;TZID=Europe/Stockholm;VALUE=DATE:20250913
DTEND;TZID=Europe/Stockholm;VALUE=DATE:20250914
DTSTAMP:20250822T100944Z
URL:https://www.borasjudo.se/events/sodra-judo-open-3-2025/
SUMMARY:Södra Judo Open 3 2025
DESCRIPTION:\nSödra Judo Open 3 2025\n\nSödra Judo Open är 4 tävlingar 
 som är utspridda över hela året:\n2 tävlingar på våren och de två s
 ista på hösten/vintern.\nTävlingarna har en stor spännvidd – från d
 e allra minsta nybörjarna till landslags judoka\, och allt som oftast lit
 e utländska gästspel.\nTävlingen vänder sig till kategorierna U9-Senio
 r.\nVid minst en av tävlingarna även A-Judo.\nSmoothcomp
CATEGORIES:Tävling
END:VEVENT
BEGIN:VTIMEZONE
TZID:Europe/Stockholm
X-LIC-LOCATION:Europe/Stockholm
BEGIN:DAYLIGHT
DTSTART:20250330T030000
TZOFFSETFROM:+0100
TZOFFSETTO:+0200
TZNAME:CEST
END:DAYLIGHT
END:VTIMEZONE
END:VCALENDAR