BEGIN:VCALENDAR
VERSION:2.0
PRODID:-//wp-events-plugin.com//7.2.3.1//EN
BEGIN:VEVENT
UID:39@borasjudo.se
DTSTART;TZID=Europe/Stockholm;VALUE=DATE:20250201
DTEND;TZID=Europe/Stockholm;VALUE=DATE:20250203
DTSTAMP:20250618T161235Z
URL:https://www.borasjudo.se/events/sm-2025/
SUMMARY:SM 2025
DESCRIPTION:Smoothcomp link
CATEGORIES:Tävling
END:VEVENT
BEGIN:VTIMEZONE
TZID:Europe/Stockholm
X-LIC-LOCATION:Europe/Stockholm
BEGIN:STANDARD
DTSTART:20241027T020000
TZOFFSETFROM:+0200
TZOFFSETTO:+0100
TZNAME:CET
END:STANDARD
END:VTIMEZONE
END:VCALENDAR