BEGIN:VCALENDAR
VERSION:2.0
PRODID:-//wp-events-plugin.com//7.2.3.1//EN
BEGIN:VEVENT
UID:16@borasjudo.se
DTSTART;TZID=Europe/Stockholm;VALUE=DATE:20250821
DTEND;TZID=Europe/Stockholm;VALUE=DATE:20250822
DTSTAMP:20250617T153210Z
URL:https://www.borasjudo.se/events/skolstart/
SUMMARY:Skolstart
DESCRIPTION:Skolstart hösten 2025
CATEGORIES:Skola
END:VEVENT
BEGIN:VTIMEZONE
TZID:Europe/Stockholm
X-LIC-LOCATION:Europe/Stockholm
BEGIN:DAYLIGHT
DTSTART:20250330T030000
TZOFFSETFROM:+0100
TZOFFSETTO:+0200
TZNAME:CEST
END:DAYLIGHT
END:VTIMEZONE
END:VCALENDAR