BEGIN:VCALENDAR
VERSION:2.0
PRODID:-//wp-events-plugin.com//7.2.3.1//EN
BEGIN:VEVENT
UID:95@borasjudo.se
DTSTART;TZID=Europe/Stockholm:20251102T120000
DTEND;TZID=Europe/Stockholm:20251102T133000
DTSTAMP:20251030T125222Z
URL:https://www.borasjudo.se/events/rm-traning-trollhattan/
SUMMARY:RM Träning\, Trollhättan
DESCRIPTION:Lag-RM närmar sig.\nTJK har planerat att hålla en träning in
 för lag-RM. Söndag 2/11\, klockan 12:00 - 13:30 i Älvhögsborg\, Hall D
 \, Trollhättan.\nVi hoppas att så många som möjligt kan delta!
CATEGORIES:Träning
END:VEVENT
BEGIN:VTIMEZONE
TZID:Europe/Stockholm
X-LIC-LOCATION:Europe/Stockholm
BEGIN:STANDARD
DTSTART:20251026T020000
TZOFFSETFROM:+0200
TZOFFSETTO:+0100
TZNAME:CET
END:STANDARD
END:VTIMEZONE
END:VCALENDAR