BEGIN:VCALENDAR
VERSION:2.0
PRODID:-//wp-events-plugin.com//7.2.3.1//EN
BEGIN:VEVENT
UID:27@borasjudo.se
DTSTART;TZID=Europe/Stockholm;VALUE=DATE:20251122
DTEND;TZID=Europe/Stockholm;VALUE=DATE:20251124
DTSTAMP:20250618T191254Z
URL:https://www.borasjudo.se/events/rm-distriktslag/
SUMMARY:RM Distriktslag
DESCRIPTION:Riksmästerskap distriktslag 2025\, Lindesberg\nSmoothcomp link
ATTACH;FMTTYPE=image/jpeg:https://www.borasjudo.se/wp-content/uploads/2025
 /06/rm_lag.png
CATEGORIES:Tävling
END:VEVENT
BEGIN:VTIMEZONE
TZID:Europe/Stockholm
X-LIC-LOCATION:Europe/Stockholm
BEGIN:STANDARD
DTSTART:20251026T020000
TZOFFSETFROM:+0200
TZOFFSETTO:+0100
TZNAME:CET
END:STANDARD
END:VTIMEZONE
END:VCALENDAR