BEGIN:VCALENDAR
VERSION:2.0
PRODID:-//wp-events-plugin.com//7.2.3.1//EN
BEGIN:VEVENT
UID:22@borasjudo.se
DTSTART;TZID=Europe/Stockholm;VALUE=DATE:20250914
DTEND;TZID=Europe/Stockholm;VALUE=DATE:20250915
DTSTAMP:20250618T122405Z
URL:https://www.borasjudo.se/events/riksgradering-goteborg/
SUMMARY:Riksgradering\, Göteborg
DESCRIPTION:Riksgradering i Göteborg\njudo.se link
CATEGORIES:Gradering
END:VEVENT
BEGIN:VTIMEZONE
TZID:Europe/Stockholm
X-LIC-LOCATION:Europe/Stockholm
BEGIN:DAYLIGHT
DTSTART:20250330T030000
TZOFFSETFROM:+0100
TZOFFSETTO:+0200
TZNAME:CEST
END:DAYLIGHT
END:VTIMEZONE
END:VCALENDAR