BEGIN:VCALENDAR
VERSION:2.0
PRODID:-//wp-events-plugin.com//7.2.3.1//EN
BEGIN:VEVENT
UID:20@borasjudo.se
DTSTART;TZID=Europe/Stockholm;VALUE=DATE:20250830
DTEND;TZID=Europe/Stockholm;VALUE=DATE:20250901
DTSTAMP:20250901T152451Z
URL:https://www.borasjudo.se/events/riksfortbildning-lindesberg/
SUMMARY:Riksfortbildning\, Lindesberg
DESCRIPTION:Riksfortbildning Lindesberg 2025\nJudo.se link
CATEGORIES:Utbildning
END:VEVENT
BEGIN:VTIMEZONE
TZID:Europe/Stockholm
X-LIC-LOCATION:Europe/Stockholm
BEGIN:DAYLIGHT
DTSTART:20250330T030000
TZOFFSETFROM:+0100
TZOFFSETTO:+0200
TZNAME:CEST
END:DAYLIGHT
END:VTIMEZONE
END:VCALENDAR