BEGIN:VCALENDAR
VERSION:2.0
PRODID:-//wp-events-plugin.com//7.2.3.1//EN
BEGIN:VEVENT
UID:34@borasjudo.se
DTSTART;TZID=Europe/Stockholm:20250110T173000
DTEND;TZID=Europe/Stockholm:20250110T190000
DTSTAMP:20250618T171712Z
URL:https://www.borasjudo.se/events/randori-start/
SUMMARY:Öppen Randori Start
DESCRIPTION:Fredags randori första träningen våren 2025
CATEGORIES:Träning
END:VEVENT
BEGIN:VTIMEZONE
TZID:Europe/Stockholm
X-LIC-LOCATION:Europe/Stockholm
BEGIN:STANDARD
DTSTART:20241027T020000
TZOFFSETFROM:+0200
TZOFFSETTO:+0100
TZNAME:CET
END:STANDARD
END:VTIMEZONE
END:VCALENDAR