BEGIN:VCALENDAR
VERSION:2.0
PRODID:-//wp-events-plugin.com//7.2.3.1//EN
BEGIN:VEVENT
UID:141@borasjudo.se
DTSTART;TZID=Europe/Stockholm:20260110T000000
DTEND;TZID=Europe/Stockholm:20260111T000000
DTSTAMP:20251211T145001Z
URL:https://www.borasjudo.se/events/matsuru-dutch-open/
SUMMARY:Matsuru Dutch Open Espoir - Competition
DESCRIPTION:https://jbn.nl/matsuru-dutch-open-espoirtoernooi
CATEGORIES:Tävling utomlands
END:VEVENT
BEGIN:VTIMEZONE
TZID:Europe/Stockholm
X-LIC-LOCATION:Europe/Stockholm
BEGIN:STANDARD
DTSTART:20251026T020000
TZOFFSETFROM:+0200
TZOFFSETTO:+0100
TZNAME:CET
END:STANDARD
END:VTIMEZONE
END:VCALENDAR