BEGIN:VCALENDAR
VERSION:2.0
PRODID:-//wp-events-plugin.com//7.2.3.1//EN
BEGIN:VEVENT
UID:42@borasjudo.se
DTSTART;TZID=Europe/Stockholm;VALUE=DATE:20250215
DTEND;TZID=Europe/Stockholm;VALUE=DATE:20250219
DTSTAMP:20250618T162500Z
URL:https://www.borasjudo.se/events/matsumae-cup-camp/
SUMMARY:Matsumae Cup + Camp
DESCRIPTION:Hemsida länk
CATEGORIES:Tävling utomlands
END:VEVENT
BEGIN:VTIMEZONE
TZID:Europe/Stockholm
X-LIC-LOCATION:Europe/Stockholm
BEGIN:STANDARD
DTSTART:20241027T020000
TZOFFSETFROM:+0200
TZOFFSETTO:+0100
TZNAME:CET
END:STANDARD
END:VTIMEZONE
END:VCALENDAR