BEGIN:VCALENDAR
VERSION:2.0
PRODID:-//wp-events-plugin.com//7.2.3.1//EN
BEGIN:VEVENT
UID:49@borasjudo.se
DTSTART;TZID=Europe/Stockholm;VALUE=DATE:20250321
DTEND;TZID=Europe/Stockholm;VALUE=DATE:20250327
DTSTAMP:20250618T165303Z
URL:https://www.borasjudo.se/events/masters-bremen/
SUMMARY:Masters Bremen + Camp
DESCRIPTION:Smoothcomp information\n\n&nbsp\;\n\n&nbsp\;\n\n&nbsp\;\n\n&nbs
 p\;\n\n&nbsp\;\n\n&nbsp\;\n\n&nbsp\;\n\n&nbsp\;\n\n&nbsp\;\n\n&nbsp\;
CATEGORIES:Tävling utomlands
END:VEVENT
BEGIN:VTIMEZONE
TZID:Europe/Stockholm
X-LIC-LOCATION:Europe/Stockholm
BEGIN:STANDARD
DTSTART:20241027T020000
TZOFFSETFROM:+0200
TZOFFSETTO:+0100
TZNAME:CET
END:STANDARD
END:VTIMEZONE
END:VCALENDAR