BEGIN:VCALENDAR
VERSION:2.0
PRODID:-//wp-events-plugin.com//7.2.3.1//EN
BEGIN:VEVENT
UID:58@borasjudo.se
DTSTART;TZID=Europe/Stockholm;VALUE=DATE:20250503
DTEND;TZID=Europe/Stockholm;VALUE=DATE:20250504
DTSTAMP:20250618T171054Z
URL:https://www.borasjudo.se/events/lilla-trolltraffen-2/
SUMMARY:Lilla Trollträffen 2
DESCRIPTION:Smoothcomp information\n\n&nbsp\;\n\n&nbsp\;\n\n&nbsp\;\n\n&nbs
 p\;\n\n&nbsp\;\n\n&nbsp\;\n\n&nbsp\;\n\n&nbsp\;\n\n&nbsp\;\n\n&nbsp\;
CATEGORIES:Tävling
END:VEVENT
BEGIN:VTIMEZONE
TZID:Europe/Stockholm
X-LIC-LOCATION:Europe/Stockholm
BEGIN:DAYLIGHT
DTSTART:20250330T030000
TZOFFSETFROM:+0100
TZOFFSETTO:+0200
TZNAME:CEST
END:DAYLIGHT
END:VTIMEZONE
END:VCALENDAR