BEGIN:VCALENDAR
VERSION:2.0
PRODID:-//wp-events-plugin.com//7.2.3.1//EN
BEGIN:VEVENT
UID:66@borasjudo.se
DTSTART;TZID=Europe/Stockholm;VALUE=DATE:20251108
DTEND;TZID=Europe/Stockholm;VALUE=DATE:20251109
DTSTAMP:20250618T190332Z
URL:https://www.borasjudo.se/events/lilla-judits/
SUMMARY:Lilla Judits
DESCRIPTION:Smoothcomp information\n\nU9-U15 max halvorange bälte\n\n&nbsp
 \;\n\n&nbsp\;\n\n&nbsp\;\n\n&nbsp\;\n\n&nbsp\;\n\n&nbsp\;\n\n&nbsp\;\n\n&n
 bsp\;\n\n&nbsp\;\n\n&nbsp\;
CATEGORIES:Tävling
END:VEVENT
BEGIN:VTIMEZONE
TZID:Europe/Stockholm
X-LIC-LOCATION:Europe/Stockholm
BEGIN:STANDARD
DTSTART:20251026T020000
TZOFFSETFROM:+0200
TZOFFSETTO:+0100
TZNAME:CET
END:STANDARD
END:VTIMEZONE
END:VCALENDAR