BEGIN:VCALENDAR
VERSION:2.0
PRODID:-//wp-events-plugin.com//7.2.3.1//EN
BEGIN:VEVENT
UID:18@borasjudo.se
DTSTART;TZID=Europe/Stockholm;VALUE=DATE:20250823
DTEND;TZID=Europe/Stockholm;VALUE=DATE:20250825
DTSTAMP:20250806T065811Z
URL:https://www.borasjudo.se/events/lager-lindesberg/
SUMMARY:Läger\, Lindesberg
DESCRIPTION:Utvecklingsläger i Lindesberg\nJudo.se information
CATEGORIES:Läger
END:VEVENT
BEGIN:VTIMEZONE
TZID:Europe/Stockholm
X-LIC-LOCATION:Europe/Stockholm
BEGIN:DAYLIGHT
DTSTART:20250330T030000
TZOFFSETFROM:+0100
TZOFFSETTO:+0200
TZNAME:CEST
END:DAYLIGHT
END:VTIMEZONE
END:VCALENDAR