BEGIN:VCALENDAR
VERSION:2.0
PRODID:-//wp-events-plugin.com//7.2.3.1//EN
BEGIN:VEVENT
UID:104@borasjudo.se
DTSTART;TZID=Europe/Stockholm:20251207T070000
DTEND;TZID=Europe/Stockholm:20251207T180000
DTSTAMP:20251203T151016Z
URL:https://www.borasjudo.se/events/konstakning-sm-kval-2/
SUMMARY:Konståkning (SM kval)
DESCRIPTION:
CATEGORIES:BHC
END:VEVENT
BEGIN:VTIMEZONE
TZID:Europe/Stockholm
X-LIC-LOCATION:Europe/Stockholm
BEGIN:STANDARD
DTSTART:20251026T020000
TZOFFSETFROM:+0200
TZOFFSETTO:+0100
TZNAME:CET
END:STANDARD
END:VTIMEZONE
END:VCALENDAR