BEGIN:VCALENDAR
VERSION:2.0
PRODID:-//wp-events-plugin.com//7.2.3.1//EN
BEGIN:VEVENT
UID:26@borasjudo.se
DTSTART;TZID=Europe/Stockholm;VALUE=DATE:20251108
DTEND;TZID=Europe/Stockholm;VALUE=DATE:20251109
DTSTAMP:20250618T173347Z
URL:https://www.borasjudo.se/events/judits-pokal-4/
SUMMARY:Judits Pokal 4
DESCRIPTION:Judits Pokal 4 - U9 + U15 + U18\nSmoothcomp link
ATTACH;FMTTYPE=image/jpeg:https://www.borasjudo.se/wp-content/uploads/2025
 /06/judits_pokal.png
CATEGORIES:Tävling
END:VEVENT
BEGIN:VTIMEZONE
TZID:Europe/Stockholm
X-LIC-LOCATION:Europe/Stockholm
BEGIN:STANDARD
DTSTART:20251026T020000
TZOFFSETFROM:+0200
TZOFFSETTO:+0100
TZNAME:CET
END:STANDARD
END:VTIMEZONE
END:VCALENDAR