BEGIN:VCALENDAR
VERSION:2.0
PRODID:-//wp-events-plugin.com//7.2.3.1//EN
BEGIN:VEVENT
UID:21@borasjudo.se
DTSTART;TZID=Europe/Stockholm;VALUE=DATE:20250913
DTEND;TZID=Europe/Stockholm;VALUE=DATE:20250914
DTSTAMP:20250618T173421Z
URL:https://www.borasjudo.se/events/judits-pokal-3/
SUMMARY:Judits Pokal 3
DESCRIPTION:U11 + U14\nSmoothcomp information
ATTACH;FMTTYPE=image/jpeg:https://www.borasjudo.se/wp-content/uploads/2025
 /06/judits_pokal.png
CATEGORIES:Tävling
END:VEVENT
BEGIN:VTIMEZONE
TZID:Europe/Stockholm
X-LIC-LOCATION:Europe/Stockholm
BEGIN:DAYLIGHT
DTSTART:20250330T030000
TZOFFSETFROM:+0100
TZOFFSETTO:+0200
TZNAME:CEST
END:DAYLIGHT
END:VTIMEZONE
END:VCALENDAR