BEGIN:VCALENDAR
VERSION:2.0
PRODID:-//wp-events-plugin.com//7.2.3.1//EN
BEGIN:VEVENT
UID:43@borasjudo.se
DTSTART;TZID=Europe/Stockholm;VALUE=DATE:20250222
DTEND;TZID=Europe/Stockholm;VALUE=DATE:20250223
DTSTAMP:20250618T173127Z
URL:https://www.borasjudo.se/events/judits-pokal-1/
SUMMARY:Judits Pokal 1
DESCRIPTION:U11 + U13\nSmoothcomp länk\n\n&nbsp\;\n\n&nbsp\;\n\n&nbsp\;\n\
 n&nbsp\;\n\n&nbsp\;\n\n&nbsp\;\n\n&nbsp\;\n\n&nbsp\;\n\n&nbsp\;\n\n&nbsp\;
ATTACH;FMTTYPE=image/jpeg:https://www.borasjudo.se/wp-content/uploads/2025
 /06/judits_pokal.png
CATEGORIES:Tävling
END:VEVENT
BEGIN:VTIMEZONE
TZID:Europe/Stockholm
X-LIC-LOCATION:Europe/Stockholm
BEGIN:STANDARD
DTSTART:20241027T020000
TZOFFSETFROM:+0200
TZOFFSETTO:+0100
TZNAME:CET
END:STANDARD
END:VTIMEZONE
END:VCALENDAR