BEGIN:VCALENDAR
VERSION:2.0
PRODID:-//wp-events-plugin.com//7.2.3.1//EN
BEGIN:VEVENT
UID:137@borasjudo.se
DTSTART;TZID=Europe/Stockholm:20251224T000000
DTEND;TZID=Europe/Stockholm:20251225T000000
DTSTAMP:20251211T143606Z
URL:https://www.borasjudo.se/events/ishallen-stangd/
SUMMARY:Ishallen stängd
DESCRIPTION:
CATEGORIES:Ishallen
END:VEVENT
BEGIN:VTIMEZONE
TZID:Europe/Stockholm
X-LIC-LOCATION:Europe/Stockholm
BEGIN:STANDARD
DTSTART:20251026T020000
TZOFFSETFROM:+0200
TZOFFSETTO:+0100
TZNAME:CET
END:STANDARD
END:VTIMEZONE
END:VCALENDAR