BEGIN:VCALENDAR
VERSION:2.0
PRODID:-//wp-events-plugin.com//7.2.3.1//EN
BEGIN:VEVENT
UID:86@borasjudo.se
DTSTART;TZID=Europe/Stockholm;VALUE=DATE:20251027
DTEND;TZID=Europe/Stockholm;VALUE=DATE:20251101
DTSTAMP:20250922T091251Z
URL:https://www.borasjudo.se/events/hostlov/
SUMMARY:Höstlov
DESCRIPTION:
CATEGORIES:Skola
END:VEVENT
BEGIN:VTIMEZONE
TZID:Europe/Stockholm
X-LIC-LOCATION:Europe/Stockholm
BEGIN:STANDARD
DTSTART:20251026T020000
TZOFFSETFROM:+0200
TZOFFSETTO:+0100
TZNAME:CET
END:STANDARD
END:VTIMEZONE
END:VCALENDAR