BEGIN:VCALENDAR
VERSION:2.0
PRODID:-//wp-events-plugin.com//7.2.3.1//EN
BEGIN:VEVENT
UID:47@borasjudo.se
DTSTART;TZID=Europe/Stockholm;VALUE=DATE:20250315
DTEND;TZID=Europe/Stockholm;VALUE=DATE:20250317
DTSTAMP:20250618T164633Z
URL:https://www.borasjudo.se/events/go-cup-1-lager/
SUMMARY:GO Cup 1 + Läger
DESCRIPTION:Smoothcomp information\n\n&nbsp\;\n\n&nbsp\;\n\n&nbsp\;\n\n&nbs
 p\;\n\n&nbsp\;\n\n&nbsp\;\n\n&nbsp\;\n\n&nbsp\;\n\n&nbsp\;\n\n&nbsp\;
CATEGORIES:Tävling
END:VEVENT
BEGIN:VTIMEZONE
TZID:Europe/Stockholm
X-LIC-LOCATION:Europe/Stockholm
BEGIN:STANDARD
DTSTART:20241027T020000
TZOFFSETFROM:+0200
TZOFFSETTO:+0100
TZNAME:CET
END:STANDARD
END:VTIMEZONE
END:VCALENDAR