BEGIN:VCALENDAR
VERSION:2.0
PRODID:-//wp-events-plugin.com//7.2.3.1//EN
BEGIN:VEVENT
UID:1@borasjudo.se
DTSTART;VALUE=DATE:20251025
DTEND;VALUE=DATE:20251027
DTSTAMP:20250813T090600Z
URL:https://www.borasjudo.se/events/gjo_2025/
SUMMARY:Gothenburg Judo Open
DESCRIPTION:Gothenburg Judo Open\n\njudo.se information
CATEGORIES:Tävling
END:VEVENT
END:VCALENDAR