BEGIN:VCALENDAR
VERSION:2.0
PRODID:-//wp-events-plugin.com//7.2.3.1//EN
BEGIN:VEVENT
UID:108@borasjudo.se
DTSTART;TZID=Europe/Stockholm:20260117T000000
DTEND;TZID=Europe/Stockholm:20260117T000000
DTSTAMP:20251211T112437Z
URL:https://www.borasjudo.se/events/fordjupning-nage-no-kata/
SUMMARY:Fördjupning - Nage No Kata
DESCRIPTION:2025.11.25 VJF Inbjudan Nage No Kata
CATEGORIES:Läger
END:VEVENT
BEGIN:VTIMEZONE
TZID:Europe/Stockholm
X-LIC-LOCATION:Europe/Stockholm
BEGIN:STANDARD
DTSTART:20251026T020000
TZOFFSETFROM:+0200
TZOFFSETTO:+0100
TZNAME:CET
END:STANDARD
END:VTIMEZONE
END:VCALENDAR