BEGIN:VCALENDAR
VERSION:2.0
PRODID:-//wp-events-plugin.com//7.2.3.1//EN
BEGIN:VEVENT
UID:164@borasjudo.se
DTSTART;TZID=Europe/Stockholm:20260329T110000
DTEND;TZID=Europe/Stockholm:20260329T130000
DTSTAMP:20260303T071123Z
URL:https://www.borasjudo.se/events/extra-arsmote/
SUMMARY:Extra Årsmöte
DESCRIPTION:\n\n\n\nBJK: Kallelse till extra årsmöte\n\n\n\nMedlemmar i B
 orås Judoklubb kallas härmed till extra årsmöte.\n\nDatum: 2026-03-29\
 nTid: kl. 11.00\nPlats: Borås Judoklubb\, dojon\n\nAnledning till extra 
 årsmöte:\nVid ordinarie årsmöte ajournerades behandlingen av § 7–9.
 \nExtra årsmötet hålls för att behandla dessa punkter.\n\nDagordning:\
 n\n 	Mötets öppnande\n 	Val av mötesordförande\n 	Val av sekreterare\n
  	Val av justerare / rösträknare\n 	Fråga om mötet blivit stadgeenligt
  utlyst\n 	Fastställande av dagordning\n 	 Styrelsens förvaltningsberä
 ttelse\n 	 Revisorernas berättelse\n 	Fråga om ansvarsfrihet för styre
 lsen\n 	Mötets avslutande\n\nDatum för kallelsen: 2026-03-02\n\nStyrelse
 n\nBorås Judoklubb\n\n\n
CATEGORIES:Möte
END:VEVENT
BEGIN:VTIMEZONE
TZID:Europe/Stockholm
X-LIC-LOCATION:Europe/Stockholm
BEGIN:DAYLIGHT
DTSTART:20260329T030000
TZOFFSETFROM:+0100
TZOFFSETTO:+0200
TZNAME:CEST
END:DAYLIGHT
END:VTIMEZONE
END:VCALENDAR