BEGIN:VCALENDAR
VERSION:2.0
PRODID:-//wp-events-plugin.com//7.2.3.1//EN
BEGIN:VEVENT
UID:83@borasjudo.se
DTSTART;TZID=Europe/Stockholm;VALUE=DATE:20251018
DTEND;TZID=Europe/Stockholm;VALUE=DATE:20251019
DTSTAMP:20250828T115206Z
URL:https://www.borasjudo.se/events/emmen-2025/
SUMMARY:Emmen 2025
DESCRIPTION:https://menno.mijnjudo.nl/judo/vos/ODJK25-EN.HTM
CATEGORIES:Tävling utomlands
END:VEVENT
BEGIN:VTIMEZONE
TZID:Europe/Stockholm
X-LIC-LOCATION:Europe/Stockholm
BEGIN:DAYLIGHT
DTSTART:20250330T030000
TZOFFSETFROM:+0100
TZOFFSETTO:+0200
TZNAME:CEST
END:DAYLIGHT
END:VTIMEZONE
END:VCALENDAR