BEGIN:VCALENDAR
VERSION:2.0
PRODID:-//wp-events-plugin.com//7.2.3.1//EN
BEGIN:VEVENT
UID:68@borasjudo.se
DTSTART;TZID=Europe/Stockholm;VALUE=DATE:20250919
DTEND;TZID=Europe/Stockholm;VALUE=DATE:20250922
DTSTAMP:20250828T113050Z
URL:https://www.borasjudo.se/events/distriktshelg-vara/
SUMMARY:Distriktshelg\, Vara
DESCRIPTION:Distriktshelg 19-21 september\nLevene arena i Stora Levene\, Va
 ra kommun.\n\nVälkommen till en helg för alla i distriktet. Läger\, sem
 inarium\, tävlingarna\, DM\, Västgötaserien 3 och Västgötapokalen. Sa
 mt de första RM-träningarna för terminen.\n\nVästgötapokalen har flyt
 ande viktklasser U9 och U11 ihop och U13 och U15 ihop. Coacherna bestämme
 r om deras adepter skall tävla i nybörjarklassen som är tänkt för de 
 som inte tävlat så mycket eller behöver lite lättare motstånd. Forts
 ättningsklassen är tänkt för de som tävlat lite mer men är för unga
  för DM\, för gamla eller har för högt bälte för Västgötaserien.\n
 \nPå DM kommer vi bara att ha en åldersklass U18 och uppåt.\n\nVästgö
 taserien anmäler man sig till på ett eget ställe på smoothcomp.\n\nÖv
 ernattning sker på mattorna i arenan. Det kommer att serveras kvällsmack
 a på fredag\, frukost\, lunch och middag på lördag samt frukost och lun
 ch på söndag. Kostnad 300kr för lägret och 150kr för tävlingen. Vill
  man inte tävla på söndagen så får man gärna lära sig och hjälpa t
 ill i sekretariat eller anmäla sig till juryn som kommer att vara med och
  utse vilka som skall få specialpokalerna i Västgötapokalen. Eller så 
 är man bara på plats och hejar på sina kompisar.\n\nVi kommer att dela 
 upp oss i två träningsgrupper under lägret efter att vi vet vilka som k
 ommer. Vi kommer att ha flera duktiga tränare från distriktet där någr
 a har erfarenhet av att vara tränare på hög nivå i andra länder. De h
 ar alla tävlat på internationell nivå. Närmare presentation kommer.\n\
 nVi hoppas att ni tycker att schemat nedan kommer att vara intressant och 
 att ni ser till att det blir god uppslutning från alla klubbar i distrikt
 et. Vi har även bjudit in representant från SJF att närvara men har ej 
 fått besked än. Ev kan schematider justeras lite då vi ev har några fl
 er saker på programmet.\n\nDet finns en lite sjö i närheten så ta med 
 badkläder. Kiosk kommer att finnas.\n\nVälkomna till Vara! // Styrelsen\
 , Västergötlands Judoförbund\n\n---\n\nFREDAG:\n\n18.00-18.30 Incheckni
 ng\n18.30-19.30 Träning för de yngre. Tränare: Danny Simmons\, Alingså
 s\n19.30-20.45 Träning för de äldre. RM-träning. Tränare: Danny Simmo
 ns\, Alingsås\n20.45 Uppvisning Kata. Fredrik Jonsson och Danny Simmons\,
  Alingsås.\nKvällsmacka\n\n&nbsp\;\n\nLÖRDAG:\n\n8.00-9.00 Frukost\n9.0
 0-10.00 Träning för de yngre. Tränare: Info kommer\n10.00-11.30 Tränin
 g för de äldre. RM-träning Tränare: Info kommer\n11.30 Lunch\nSeminari
 um:\n12.30 Judo för vuxna nybörjare. Johan Rova\, Habo.\n12.30 Samling R
 M-lag (För alla U15 &amp\; U18 som är intresserade)\n12.30 Brännboll\, 
 kubb och andra lekar ute.\n13.00 A-judo. Vad är det? Hur kan man starta u
 pp det? Johan\, Trollhättan\n13.30-14.30 Veteranträning (för de som kä
 nner sig lite äldre \;)\nBenny Stenlund\, Mariestad berättar om veteranj
 udo och sina framgångar och håller i ett pass.\n14.30-15.30 Träning fö
 r de yngre. Tränare: John Johansson\, Lidköping\n15.30-17.00 Träning f
 ör de äldre. RM-träning Tränare: John Johansson\, Lidköping\nSeminari
 um:\n17.00 Judo 4-balans\, fallträning. Fredrik Jonsson Alingsås\n17.30 
 Fråga domaren. Hur tolkas de nya reglerna. Victoria Andersson\, Vara\n18.
 00 Grillning och bad.\n20.00 Invägning\n\n&nbsp\;\n\nSÖNDAG:\n\n8.00 Fru
 kost\n10.00 Tävlingsstart\n12.00 Lunch\n\n&nbsp\;\n\nMed vänlig hälsnin
 g\,\nVictoria Andersson\n\nVästergötlands judoförbund
ATTACH;FMTTYPE=image/jpeg:https://www.borasjudo.se/wp-content/uploads/2023
 /01/vjf-600x300-1.jpg
CATEGORIES:Tävling
END:VEVENT
BEGIN:VTIMEZONE
TZID:Europe/Stockholm
X-LIC-LOCATION:Europe/Stockholm
BEGIN:DAYLIGHT
DTSTART:20250330T030000
TZOFFSETFROM:+0100
TZOFFSETTO:+0200
TZNAME:CEST
END:DAYLIGHT
END:VTIMEZONE
END:VCALENDAR