BEGIN:VCALENDAR
VERSION:2.0
PRODID:-//wp-events-plugin.com//7.2.3.1//EN
BEGIN:VEVENT
UID:156@borasjudo.se
DTSTART;TZID=Europe/Stockholm:20260223T000000
DTEND;TZID=Europe/Stockholm:20260224T000000
DTSTAMP:20251215T094918Z
URL:https://www.borasjudo.se/events/danish-open-camp/
SUMMARY:Danish Open - Camp
DESCRIPTION:Invitation Daanish Open 2026-1
CATEGORIES:Läger
END:VEVENT
BEGIN:VTIMEZONE
TZID:Europe/Stockholm
X-LIC-LOCATION:Europe/Stockholm
BEGIN:STANDARD
DTSTART:20251026T020000
TZOFFSETFROM:+0200
TZOFFSETTO:+0100
TZNAME:CET
END:STANDARD
END:VTIMEZONE
END:VCALENDAR