BEGIN:VCALENDAR
VERSION:2.0
PRODID:-//wp-events-plugin.com//7.2.3.1//EN
BEGIN:VEVENT
UID:25@borasjudo.se
DTSTART;TZID=Europe/Stockholm;VALUE=DATE:20251011
DTEND;TZID=Europe/Stockholm;VALUE=DATE:20251012
DTSTAMP:20250618T190028Z
URL:https://www.borasjudo.se/events/dalsland-open-2/
SUMMARY:Dalsland Open 2
DESCRIPTION:U9-U13\nSmoothcomp information \n\n&nbsp\;\n\n&nbsp\;\n\n&nbsp
 \;\n\n&nbsp\;\n\n&nbsp\;\n\n&nbsp\;\n\n&nbsp\;\n\n&nbsp\;\n\n&nbsp\;\n\n&n
 bsp\;\n\n&nbsp\;
CATEGORIES:Tävling
END:VEVENT
BEGIN:VTIMEZONE
TZID:Europe/Stockholm
X-LIC-LOCATION:Europe/Stockholm
BEGIN:DAYLIGHT
DTSTART:20250330T030000
TZOFFSETFROM:+0100
TZOFFSETTO:+0200
TZNAME:CEST
END:DAYLIGHT
END:VTIMEZONE
END:VCALENDAR