BEGIN:VCALENDAR
VERSION:2.0
PRODID:-//wp-events-plugin.com//7.2.3.1//EN
BEGIN:VEVENT
UID:40@borasjudo.se
DTSTART;TZID=Europe/Stockholm;VALUE=DATE:20250208
DTEND;TZID=Europe/Stockholm;VALUE=DATE:20250210
DTSTAMP:20250618T161720Z
URL:https://www.borasjudo.se/events/dalsland-open-1/
SUMMARY:Dalsland Open 1
DESCRIPTION:Dalsland Open 1 2025 &amp\; Training Camp\nSmoothcomp link
CATEGORIES:Tävling
END:VEVENT
BEGIN:VTIMEZONE
TZID:Europe/Stockholm
X-LIC-LOCATION:Europe/Stockholm
BEGIN:STANDARD
DTSTART:20241027T020000
TZOFFSETFROM:+0200
TZOFFSETTO:+0100
TZNAME:CET
END:STANDARD
END:VTIMEZONE
END:VCALENDAR