BEGIN:VCALENDAR
VERSION:2.0
PRODID:-//wp-events-plugin.com//7.2.3.1//EN
BEGIN:VEVENT
UID:54@borasjudo.se
DTSTART;TZID=Europe/Stockholm;VALUE=DATE:20250418
DTEND;TZID=Europe/Stockholm;VALUE=DATE:20250422
DTSTAMP:20250618T170445Z
URL:https://www.borasjudo.se/events/copenhagen-open-camp/
SUMMARY:Copenhagen Open + Camp
DESCRIPTION:Smoothcomp information\n\n&nbsp\;\n\n&nbsp\;\n\n&nbsp\;\n\n&nbs
 p\;\n\n&nbsp\;\n\n&nbsp\;\n\n&nbsp\;\n\n&nbsp\;\n\n&nbsp\;\n\n&nbsp\;
CATEGORIES:Tävling utomlands
END:VEVENT
BEGIN:VTIMEZONE
TZID:Europe/Stockholm
X-LIC-LOCATION:Europe/Stockholm
BEGIN:DAYLIGHT
DTSTART:20250330T030000
TZOFFSETFROM:+0100
TZOFFSETTO:+0200
TZNAME:CEST
END:DAYLIGHT
END:VTIMEZONE
END:VCALENDAR