BEGIN:VCALENDAR
VERSION:2.0
PRODID:-//wp-events-plugin.com//7.2.3.1//EN
BEGIN:VEVENT
UID:62@borasjudo.se
DTSTART;TZID=Europe/Stockholm;VALUE=DATE:20250529
DTEND;TZID=Europe/Stockholm;VALUE=DATE:20250602
DTSTAMP:20250618T190940Z
URL:https://www.borasjudo.se/events/budo-nord-cup-camp/
SUMMARY:Budo Nord Cup + Camp
DESCRIPTION:Smoothcomp information\n\n&nbsp\;\n\n&nbsp\;\n\n&nbsp\;\n\n&nbs
 p\;\n\n&nbsp\;\n\n&nbsp\;\n\n&nbsp\;\n\n&nbsp\;
ATTACH;FMTTYPE=image/jpeg:https://www.borasjudo.se/wp-content/uploads/2025
 /06/budo_nord.png
CATEGORIES:Tävling
END:VEVENT
BEGIN:VTIMEZONE
TZID:Europe/Stockholm
X-LIC-LOCATION:Europe/Stockholm
BEGIN:DAYLIGHT
DTSTART:20250330T030000
TZOFFSETFROM:+0100
TZOFFSETTO:+0200
TZNAME:CEST
END:DAYLIGHT
END:VTIMEZONE
END:VCALENDAR