BEGIN:VCALENDAR
VERSION:2.0
PRODID:-//wp-events-plugin.com//7.2.3.1//EN
BEGIN:VEVENT
UID:14@borasjudo.se
DTSTART;TZID=Europe/Stockholm:20250820T173000
DTEND;TZID=Europe/Stockholm:20250820T183000
DTSTAMP:20250617T152944Z
URL:https://www.borasjudo.se/events/bn2-start/
SUMMARY:BN2 start
DESCRIPTION:Barn Nybörjare 2 med Johan Lindberg start hösten 2025
CATEGORIES:Träning
END:VEVENT
BEGIN:VTIMEZONE
TZID:Europe/Stockholm
X-LIC-LOCATION:Europe/Stockholm
BEGIN:DAYLIGHT
DTSTART:20250330T030000
TZOFFSETFROM:+0100
TZOFFSETTO:+0200
TZNAME:CEST
END:DAYLIGHT
END:VTIMEZONE
END:VCALENDAR