BEGIN:VCALENDAR
VERSION:2.0
PRODID:-//wp-events-plugin.com//7.2.3.1//EN
BEGIN:VEVENT
UID:9@borasjudo.se
DTSTART:20250609T163000Z
DTEND:20250609T173000Z
DTSTAMP:20250617T151032Z
URL:https://www.borasjudo.se/events/bn2-slut/
SUMMARY:BN2 Slut
DESCRIPTION:Barn nybörjare 2 sista träning för våren 2025
CATEGORIES:Träning
END:VEVENT
END:VCALENDAR