BEGIN:VCALENDAR
VERSION:2.0
PRODID:-//wp-events-plugin.com//7.2.3.1//EN
BEGIN:VEVENT
UID:71@borasjudo.se
DTSTART;TZID=Europe/Stockholm:20251217T173000
DTEND;TZID=Europe/Stockholm:20251217T183000
DTSTAMP:20250804T200040Z
URL:https://www.borasjudo.se/events/bn2-slut-2/
SUMMARY:BN2 slut
DESCRIPTION:Barn Nybörjare 2 med Johan Lindberg slut hösten 2025
CATEGORIES:Träning
END:VEVENT
BEGIN:VTIMEZONE
TZID:Europe/Stockholm
X-LIC-LOCATION:Europe/Stockholm
BEGIN:STANDARD
DTSTART:20251026T020000
TZOFFSETFROM:+0200
TZOFFSETTO:+0100
TZNAME:CET
END:STANDARD
END:VTIMEZONE
END:VCALENDAR